BEGIN:VCALENDAR
VERSION:2.0
PRODID:-//Tukios.com/
BEGIN:VEVENT
UID:43a4670a-2c3f-464a-82f0-1bd5ca956f0e@www.collinsfuneralhome.net
DTSTAMP:20260422T060734Z
DTSTART:20260424T190000Z
DTEND:20260424T200000Z
SUMMARY:Graveside Service
DESCRIPTION:
URL:https://www.collinsfuneralhome.net/obituaries/annette-stout
LOCATION:Pisgah Methodist Church Cemetery W Deputy Pike Road  Deputy IN 
	47230
GEO:38.7894622;-85.5960511
END:VEVENT
END:VCALENDAR