BEGIN:VCALENDAR
VERSION:2.0
PRODID:-//Tukios.com/
BEGIN:VEVENT
UID:cf964c5f-58b7-4005-ba73-b792c2b693c5@www.collinsfuneralhome.net
DTSTAMP:20260424T195209Z
DTSTART:20260428T200000Z
DTEND:20260429T000000Z
SUMMARY:Visitation
DESCRIPTION:
URL:https://www.collinsfuneralhome.net/obituaries/joan-mulcahy
LOCATION:Collins Funeral Home 465 W McClain Ave  Scottsburg IN 47170
GEO:38.6853965;-85.7749641
END:VEVENT
END:VCALENDAR