BEGIN:VCALENDAR
VERSION:2.0
PRODID:-//Tukios.com/
BEGIN:VEVENT
UID:08b97e72-2c05-4c07-9de8-15baf9cff9ff@www.collinsfuneralhome.net
DTSTAMP:20260424T195424Z
DTSTART:20260429T140000Z
DTEND:20260429T150000Z
SUMMARY:Funeral Service
DESCRIPTION:
URL:https://www.collinsfuneralhome.net/obituaries/joan-mulcahy
LOCATION:American Martyrs Catholic Church 270 South Bond Street  
	Scottsburg IN 47170
GEO:38.6834799;-85.7731345
END:VEVENT
END:VCALENDAR