BEGIN:VCALENDAR
VERSION:2.0
PRODID:-//Tukios.com/
BEGIN:VEVENT
UID:dc2a648c-c475-40d1-bf0b-a7c38265d577@www.collinsfuneralhome.net
DTSTAMP:20260421T173722Z
DTSTART:20260422T140000Z
DTEND:20260422T170000Z
SUMMARY:Visitation
DESCRIPTION:
URL:https://www.collinsfuneralhome.net/obituaries/onna-tobias
LOCATION:Collins Funeral Home 465 W McClain Ave  Scottsburg IN 47170
GEO:38.6853965;-85.7749641
END:VEVENT
END:VCALENDAR